BEGIN:VCALENDAR
VERSION:2.0
PRODID:-//Sycamore Springs Golf Course - ECPv6.15.18//NONSGML v1.0//EN
CALSCALE:GREGORIAN
METHOD:PUBLISH
X-WR-CALNAME:Sycamore Springs Golf Course
X-ORIGINAL-URL:https://www.sycamorespringsgolf.com
X-WR-CALDESC:Events for Sycamore Springs Golf Course
REFRESH-INTERVAL;VALUE=DURATION:PT1H
X-Robots-Tag:noindex
X-PUBLISHED-TTL:PT1H
BEGIN:VTIMEZONE
TZID:America/New_York
BEGIN:DAYLIGHT
TZOFFSETFROM:-0500
TZOFFSETTO:-0400
TZNAME:EDT
DTSTART:20240310T070000
END:DAYLIGHT
BEGIN:STANDARD
TZOFFSETFROM:-0400
TZOFFSETTO:-0500
TZNAME:EST
DTSTART:20241103T060000
END:STANDARD
BEGIN:DAYLIGHT
TZOFFSETFROM:-0500
TZOFFSETTO:-0400
TZNAME:EDT
DTSTART:20250309T070000
END:DAYLIGHT
BEGIN:STANDARD
TZOFFSETFROM:-0400
TZOFFSETTO:-0500
TZNAME:EST
DTSTART:20251102T060000
END:STANDARD
BEGIN:DAYLIGHT
TZOFFSETFROM:-0500
TZOFFSETTO:-0400
TZNAME:EDT
DTSTART:20260308T070000
END:DAYLIGHT
BEGIN:STANDARD
TZOFFSETFROM:-0400
TZOFFSETTO:-0500
TZNAME:EST
DTSTART:20261101T060000
END:STANDARD
END:VTIMEZONE
BEGIN:VEVENT
DTSTART;TZID=America/New_York:20251019T100000
DTEND;TZID=America/New_York:20251019T100000
DTSTAMP:20260420T101837
CREATED:20250918T125607Z
LAST-MODIFIED:20250918T125607Z
UID:10000030-1760868000-1760868000@www.sycamorespringsgolf.com
SUMMARY:3-Man Armature Cash Scramble
DESCRIPTION:
URL:https://www.sycamorespringsgolf.com/event/3-man-armature-cash-scramble/
END:VEVENT
BEGIN:VEVENT
DTSTART;TZID=America/New_York:20251004T100000
DTEND;TZID=America/New_York:20251004T100000
DTSTAMP:20260420T101837
CREATED:20250918T125659Z
LAST-MODIFIED:20250918T125659Z
UID:10000031-1759572000-1759572000@www.sycamorespringsgolf.com
SUMMARY:Annual Dick Kuenzli Memorial Golf Outing
DESCRIPTION:
URL:https://www.sycamorespringsgolf.com/event/annual-dick-kuenzli-memorial-golf-outing/
END:VEVENT
BEGIN:VEVENT
DTSTART;VALUE=DATE:20251004
DTEND;VALUE=DATE:20251005
DTSTAMP:20260420T101837
CREATED:20250323T205446Z
LAST-MODIFIED:20250323T205446Z
UID:10000029-1759536000-1759622399@www.sycamorespringsgolf.com
SUMMARY:Course Improvement Outing
DESCRIPTION:Course Improvement Outing
URL:https://www.sycamorespringsgolf.com/event/course-improvement-outing/
END:VEVENT
BEGIN:VEVENT
DTSTART;TZID=America/New_York:20250920T130000
DTEND;TZID=America/New_York:20250920T130000
DTSTAMP:20260420T101837
CREATED:20250323T205429Z
LAST-MODIFIED:20250323T205429Z
UID:10000028-1758373200-1758373200@www.sycamorespringsgolf.com
SUMMARY:VB Invite
DESCRIPTION:VB Invite @ 1p
URL:https://www.sycamorespringsgolf.com/event/vb-invite/
END:VEVENT
BEGIN:VEVENT
DTSTART;TZID=America/New_York:20250919T090000
DTEND;TZID=America/New_York:20250919T090000
DTSTAMP:20260420T101837
CREATED:20250323T205410Z
LAST-MODIFIED:20250323T205410Z
UID:10000027-1758272400-1758272400@www.sycamorespringsgolf.com
SUMMARY:Special Olympics
DESCRIPTION:Special Olympics @ 9am
URL:https://www.sycamorespringsgolf.com/event/special-olympics/
END:VEVENT
BEGIN:VEVENT
DTSTART;TZID=America/New_York:20250911T090000
DTEND;TZID=America/New_York:20250911T090000
DTSTAMP:20260420T101837
CREATED:20250323T205352Z
LAST-MODIFIED:20250323T205352Z
UID:10000026-1757581200-1757581200@www.sycamorespringsgolf.com
SUMMARY:Brimley & Frisch Outing
DESCRIPTION:Brimley & Frisch Outing @ 9a
URL:https://www.sycamorespringsgolf.com/event/brimley-frisch-outing/
END:VEVENT
BEGIN:VEVENT
DTSTART;TZID=America/New_York:20250905T090000
DTEND;TZID=America/New_York:20250905T090000
DTSTAMP:20260420T101837
CREATED:20250323T205331Z
LAST-MODIFIED:20250323T205331Z
UID:10000025-1757062800-1757062800@www.sycamorespringsgolf.com
SUMMARY:CCH Outing
DESCRIPTION:CCH Outing @ 9am
URL:https://www.sycamorespringsgolf.com/event/cch-outing/
END:VEVENT
BEGIN:VEVENT
DTSTART;VALUE=DATE:20250823
DTEND;VALUE=DATE:20250825
DTSTAMP:20260420T101837
CREATED:20250323T205253Z
LAST-MODIFIED:20250323T205253Z
UID:10000024-1755907200-1756079999@www.sycamorespringsgolf.com
SUMMARY:Classic
DESCRIPTION:
URL:https://www.sycamorespringsgolf.com/event/classic/
END:VEVENT
BEGIN:VEVENT
DTSTART;TZID=America/New_York:20250816T133000
DTEND;TZID=America/New_York:20250816T133000
DTSTAMP:20260420T101837
CREATED:20250323T205235Z
LAST-MODIFIED:20250323T205235Z
UID:10000023-1755351000-1755351000@www.sycamorespringsgolf.com
SUMMARY:Maga Outing
DESCRIPTION:Maga Outing @ 1:30p
URL:https://www.sycamorespringsgolf.com/event/maga-outing/
END:VEVENT
BEGIN:VEVENT
DTSTART;TZID=America/New_York:20250810T133000
DTEND;TZID=America/New_York:20250810T133000
DTSTAMP:20260420T101837
CREATED:20250323T205211Z
LAST-MODIFIED:20250323T205211Z
UID:10000022-1754832600-1754832600@www.sycamorespringsgolf.com
SUMMARY:Kalmbach Outing
DESCRIPTION:Kalmbach Outing @ 1:30p
URL:https://www.sycamorespringsgolf.com/event/kalmbach-outing/
END:VEVENT
BEGIN:VEVENT
DTSTART;TZID=America/New_York:20250809T133000
DTEND;TZID=America/New_York:20250809T133000
DTSTAMP:20260420T101837
CREATED:20250323T205152Z
LAST-MODIFIED:20250323T205152Z
UID:10000021-1754746200-1754746200@www.sycamorespringsgolf.com
SUMMARY:University of Findlay Volleyball Outing
DESCRIPTION:University of Findlay Volleyball Outing @ 1:30p
URL:https://www.sycamorespringsgolf.com/event/university-of-findlay-volleyball-outing/
END:VEVENT
BEGIN:VEVENT
DTSTART;TZID=America/New_York:20250808T090000
DTEND;TZID=America/New_York:20250808T090000
DTSTAMP:20260420T101837
CREATED:20250323T205126Z
LAST-MODIFIED:20250323T205126Z
UID:10000020-1754643600-1754643600@www.sycamorespringsgolf.com
SUMMARY:Liberty Benton Invite
DESCRIPTION:Liberty Benton Invite @ 9am
URL:https://www.sycamorespringsgolf.com/event/liberty-benton-invite/
END:VEVENT
BEGIN:VEVENT
DTSTART;TZID=America/New_York:20250808T080000
DTEND;TZID=America/New_York:20250808T080000
DTSTAMP:20260420T101837
CREATED:20250323T205000Z
LAST-MODIFIED:20250323T205000Z
UID:10000017-1754640000-1754640000@www.sycamorespringsgolf.com
SUMMARY:Marathon Open
DESCRIPTION:Marathon Open @ 8am
URL:https://www.sycamorespringsgolf.com/event/marathon-open/
END:VEVENT
BEGIN:VEVENT
DTSTART;TZID=America/New_York:20250806T130000
DTEND;TZID=America/New_York:20250806T130000
DTSTAMP:20260420T101837
CREATED:20250323T205104Z
LAST-MODIFIED:20250323T205104Z
UID:10000019-1754485200-1754485200@www.sycamorespringsgolf.com
SUMMARY:Findlay High School Boys Preview
DESCRIPTION:Findlay High School Boys Preview @ 1p
URL:https://www.sycamorespringsgolf.com/event/findlay-high-school-boys-preview/
END:VEVENT
BEGIN:VEVENT
DTSTART;TZID=America/New_York:20250804T090000
DTEND;TZID=America/New_York:20250804T090000
DTSTAMP:20260420T101837
CREATED:20250323T205033Z
LAST-MODIFIED:20250323T205033Z
UID:10000018-1754298000-1754298000@www.sycamorespringsgolf.com
SUMMARY:Lady Trojan Invite
DESCRIPTION:Lady Trojan Invite @ 9am
URL:https://www.sycamorespringsgolf.com/event/lady-trojan-invite/
END:VEVENT
BEGIN:VEVENT
DTSTART;TZID=America/New_York:20250803T150000
DTEND;TZID=America/New_York:20250803T150000
DTSTAMP:20260420T101837
CREATED:20250321T133906Z
LAST-MODIFIED:20250528T184025Z
UID:10000007-1754233200-1754233200@www.sycamorespringsgolf.com
SUMMARY:Family Pairing Event
DESCRIPTION:
URL:https://www.sycamorespringsgolf.com/event/family-pairing-event/
END:VEVENT
BEGIN:VEVENT
DTSTART;VALUE=DATE:20250726
DTEND;VALUE=DATE:20250728
DTSTAMP:20260420T101837
CREATED:20250321T155211Z
LAST-MODIFIED:20250321T155211Z
UID:10000016-1753488000-1753660799@www.sycamorespringsgolf.com
SUMMARY:Club Championship
DESCRIPTION:
URL:https://www.sycamorespringsgolf.com/event/club-championship/
END:VEVENT
BEGIN:VEVENT
DTSTART;TZID=America/New_York:20250720T133000
DTEND;TZID=America/New_York:20250720T133000
DTSTAMP:20260420T101837
CREATED:20250321T154950Z
LAST-MODIFIED:20250321T154950Z
UID:10000015-1753018200-1753018200@www.sycamorespringsgolf.com
SUMMARY:Riverdale Boosters
DESCRIPTION:
URL:https://www.sycamorespringsgolf.com/event/riverdale-boosters/
END:VEVENT
BEGIN:VEVENT
DTSTART;TZID=America/New_York:20250713T133000
DTEND;TZID=America/New_York:20250713T133000
DTSTAMP:20260420T101837
CREATED:20250321T154919Z
LAST-MODIFIED:20250321T154919Z
UID:10000014-1752413400-1752413400@www.sycamorespringsgolf.com
SUMMARY:Cory Rawson Booster Outing
DESCRIPTION:
URL:https://www.sycamorespringsgolf.com/event/cory-rawson-booster-outing/
END:VEVENT
BEGIN:VEVENT
DTSTART;TZID=America/New_York:20250711T090000
DTEND;TZID=America/New_York:20250711T090000
DTSTAMP:20260420T101837
CREATED:20250321T154710Z
LAST-MODIFIED:20250321T154710Z
UID:10000013-1752224400-1752224400@www.sycamorespringsgolf.com
SUMMARY:Black Knight Outing
DESCRIPTION:
URL:https://www.sycamorespringsgolf.com/event/black-knight-outing/
END:VEVENT
BEGIN:VEVENT
DTSTART;TZID=America/New_York:20250627T160000
DTEND;TZID=America/New_York:20250627T160000
DTSTAMP:20260420T101837
CREATED:20250321T134640Z
LAST-MODIFIED:20250321T134640Z
UID:10000012-1751040000-1751040000@www.sycamorespringsgolf.com
SUMMARY:Par 3 Contest
DESCRIPTION:
URL:https://www.sycamorespringsgolf.com/event/par-3-contest/
END:VEVENT
BEGIN:VEVENT
DTSTART;TZID=America/New_York:20250626T073000
DTEND;TZID=America/New_York:20250626T073000
DTSTAMP:20260420T101837
CREATED:20250321T134557Z
LAST-MODIFIED:20250321T134557Z
UID:10000011-1750923000-1750923000@www.sycamorespringsgolf.com
SUMMARY:Lima Jr Golf
DESCRIPTION:
URL:https://www.sycamorespringsgolf.com/event/lima-jr-golf/
END:VEVENT
BEGIN:VEVENT
DTSTART;TZID=America/New_York:20250624T093000
DTEND;TZID=America/New_York:20250624T093000
DTSTAMP:20260420T101837
CREATED:20250321T134218Z
LAST-MODIFIED:20250321T134218Z
UID:10000010-1750757400-1750757400@www.sycamorespringsgolf.com
SUMMARY:FAGA
DESCRIPTION:
URL:https://www.sycamorespringsgolf.com/event/faga-2/
END:VEVENT
BEGIN:VEVENT
DTSTART;TZID=America/New_York:20250623T074500
DTEND;TZID=America/New_York:20250623T074500
DTSTAMP:20260420T101837
CREATED:20250321T134115Z
LAST-MODIFIED:20250321T134115Z
UID:10000009-1750664700-1750664700@www.sycamorespringsgolf.com
SUMMARY:FAGA
DESCRIPTION:
URL:https://www.sycamorespringsgolf.com/event/faga/
END:VEVENT
BEGIN:VEVENT
DTSTART;TZID=America/New_York:20250614T133000
DTEND;TZID=America/New_York:20250614T133000
DTSTAMP:20260420T101837
CREATED:20250321T133941Z
LAST-MODIFIED:20250321T133941Z
UID:10000008-1749907800-1749907800@www.sycamorespringsgolf.com
SUMMARY:Will Webb Outing
DESCRIPTION:
URL:https://www.sycamorespringsgolf.com/event/will-webb-outing/
END:VEVENT
BEGIN:VEVENT
DTSTART;VALUE=DATE:20250606
DTEND;VALUE=DATE:20250607
DTSTAMP:20260420T101837
CREATED:20250321T133822Z
LAST-MODIFIED:20250321T133822Z
UID:10000006-1749168000-1749254399@www.sycamorespringsgolf.com
SUMMARY:Youth For Christ Outing
DESCRIPTION:
URL:https://www.sycamorespringsgolf.com/event/youth-for-christ-outing/
END:VEVENT
BEGIN:VEVENT
DTSTART;VALUE=DATE:20250603
DTEND;VALUE=DATE:20250607
DTSTAMP:20260420T101837
CREATED:20250321T133001Z
LAST-MODIFIED:20250321T133001Z
UID:10000005-1748908800-1749254399@www.sycamorespringsgolf.com
SUMMARY:Kids Camp
DESCRIPTION:
URL:https://www.sycamorespringsgolf.com/event/kids-camp/
END:VEVENT
BEGIN:VEVENT
DTSTART;VALUE=DATE:20250511
DTEND;VALUE=DATE:20250512
DTSTAMP:20260420T101837
CREATED:20250321T132915Z
LAST-MODIFIED:20250321T132915Z
UID:10000004-1746921600-1747007999@www.sycamorespringsgolf.com
SUMMARY:Mom’s Play Free Day
DESCRIPTION:
URL:https://www.sycamorespringsgolf.com/event/moms-play-free-day/
END:VEVENT
BEGIN:VEVENT
DTSTART;TZID=America/New_York:20250509T130000
DTEND;TZID=America/New_York:20250509T130000
DTSTAMP:20260420T101837
CREATED:20250321T132854Z
LAST-MODIFIED:20250321T132854Z
UID:10000003-1746795600-1746795600@www.sycamorespringsgolf.com
SUMMARY:Humane Society Outing
DESCRIPTION:
URL:https://www.sycamorespringsgolf.com/event/humane-society-outing/
END:VEVENT
BEGIN:VEVENT
DTSTART;TZID=America/New_York:20250501T150000
DTEND;TZID=America/New_York:20250501T190000
DTSTAMP:20260420T101837
CREATED:20250321T132818Z
LAST-MODIFIED:20250321T132818Z
UID:10000002-1746111600-1746126000@www.sycamorespringsgolf.com
SUMMARY:Mizuno Fitting
DESCRIPTION:
URL:https://www.sycamorespringsgolf.com/event/mizuno-fitting/
END:VEVENT
END:VCALENDAR